BEGIN:VCALENDAR
VERSION:2.0
PRODID:-//James Roe - ECPv6.15.20//NONSGML v1.0//EN
CALSCALE:GREGORIAN
METHOD:PUBLISH
X-ORIGINAL-URL:https://jamesroejr.com
X-WR-CALDESC:Events for James Roe
REFRESH-INTERVAL;VALUE=DURATION:PT1H
X-Robots-Tag:noindex
X-PUBLISHED-TTL:PT1H
BEGIN:VTIMEZONE
TZID:America/Indiana/Indianapolis
BEGIN:DAYLIGHT
TZOFFSETFROM:-0500
TZOFFSETTO:-0400
TZNAME:EDT
DTSTART:20240310T070000
END:DAYLIGHT
BEGIN:STANDARD
TZOFFSETFROM:-0400
TZOFFSETTO:-0500
TZNAME:EST
DTSTART:20241103T060000
END:STANDARD
BEGIN:DAYLIGHT
TZOFFSETFROM:-0500
TZOFFSETTO:-0400
TZNAME:EDT
DTSTART:20250309T070000
END:DAYLIGHT
BEGIN:STANDARD
TZOFFSETFROM:-0400
TZOFFSETTO:-0500
TZNAME:EST
DTSTART:20251102T060000
END:STANDARD
BEGIN:DAYLIGHT
TZOFFSETFROM:-0500
TZOFFSETTO:-0400
TZNAME:EDT
DTSTART:20260308T070000
END:DAYLIGHT
BEGIN:STANDARD
TZOFFSETFROM:-0400
TZOFFSETTO:-0500
TZNAME:EST
DTSTART:20261101T060000
END:STANDARD
BEGIN:DAYLIGHT
TZOFFSETFROM:-0500
TZOFFSETTO:-0400
TZNAME:EDT
DTSTART:20270314T070000
END:DAYLIGHT
BEGIN:STANDARD
TZOFFSETFROM:-0400
TZOFFSETTO:-0500
TZNAME:EST
DTSTART:20271107T060000
END:STANDARD
END:VTIMEZONE
BEGIN:VEVENT
DTSTART;VALUE=DATE:20260327
DTEND;VALUE=DATE:20260330
DTSTAMP:20260420T045825
CREATED:20251219T214808Z
LAST-MODIFIED:20251219T220332Z
UID:4426-1774569600-1774828799@jamesroejr.com
SUMMARY:INDY NXT - Barber Motorsports Park (doubleheader)
DESCRIPTION:
URL:https://jamesroejr.com/event/indy-nxt-barber-motorsports-park/
CATEGORIES:2026 RACE EVENTS
END:VEVENT
BEGIN:VEVENT
DTSTART;VALUE=DATE:20260319
DTEND;VALUE=DATE:20260322
DTSTAMP:20260420T045825
CREATED:20260113T072726Z
LAST-MODIFIED:20260113T072907Z
UID:4462-1773878400-1774137599@jamesroejr.com
SUMMARY:IMSA - Sebring Raceway
DESCRIPTION:
URL:https://jamesroejr.com/event/12-hours-of-sebring-sebring-raceway/
CATEGORIES:2026 RACE EVENTS
END:VEVENT
BEGIN:VEVENT
DTSTART;VALUE=DATE:20260313
DTEND;VALUE=DATE:20260316
DTSTAMP:20260420T045825
CREATED:20251219T214716Z
LAST-MODIFIED:20251219T214716Z
UID:4424-1773360000-1773619199@jamesroejr.com
SUMMARY:INDY NXT - Streets of Arlington
DESCRIPTION:
URL:https://jamesroejr.com/event/indy-nxt-streets-of-arlington/
CATEGORIES:2026 RACE EVENTS
END:VEVENT
BEGIN:VEVENT
DTSTART;VALUE=DATE:20260227
DTEND;VALUE=DATE:20260302
DTSTAMP:20260420T045825
CREATED:20251219T213254Z
LAST-MODIFIED:20251219T213254Z
UID:4422-1772150400-1772409599@jamesroejr.com
SUMMARY:INDY NXT - Streets of St Pete
DESCRIPTION:
URL:https://jamesroejr.com/event/indy-nxt-streets-of-st-pete/
CATEGORIES:2026 RACE EVENTS
END:VEVENT
BEGIN:VEVENT
DTSTART;VALUE=DATE:20260206
DTEND;VALUE=DATE:20260209
DTSTAMP:20260420T045825
CREATED:20251206T032055Z
LAST-MODIFIED:20251219T220436Z
UID:4403-1770336000-1770595199@jamesroejr.com
SUMMARY:ASIAN LE MANS SERIES - Yas Marina Circuit (doubleheader)
DESCRIPTION:
URL:https://jamesroejr.com/event/asian-le-mans-series-yas-marina-circuit/
END:VEVENT
BEGIN:VEVENT
DTSTART;VALUE=DATE:20260130
DTEND;VALUE=DATE:20260202
DTSTAMP:20260420T045825
CREATED:20251206T032014Z
LAST-MODIFIED:20251219T220542Z
UID:4401-1769731200-1769990399@jamesroejr.com
SUMMARY:ASIAN LE MANS SERIES - Dubai Autodrome (doubleheader)
DESCRIPTION:
URL:https://jamesroejr.com/event/asian-le-mans-series-dubai-autodrome/
CATEGORIES:2026 RACE EVENTS
END:VEVENT
BEGIN:VEVENT
DTSTART;VALUE=DATE:20260122
DTEND;VALUE=DATE:20260126
DTSTAMP:20260420T045825
CREATED:20260113T072455Z
LAST-MODIFIED:20260113T072934Z
UID:4463-1769040000-1769385599@jamesroejr.com
SUMMARY:IMSA - Daytona International Speedway
DESCRIPTION:
URL:https://jamesroejr.com/event/rolex-24-daytona-international-speedway/
CATEGORIES:2026 RACE EVENTS
END:VEVENT
BEGIN:VEVENT
DTSTART;VALUE=DATE:20251212
DTEND;VALUE=DATE:20251215
DTSTAMP:20260420T045825
CREATED:20251206T031919Z
LAST-MODIFIED:20251219T220714Z
UID:4399-1765497600-1765756799@jamesroejr.com
SUMMARY:ASIAN LE MANS SERIES - Sepang International Circuit (doubleheader)
DESCRIPTION:
URL:https://jamesroejr.com/event/asian-le-mans-series-sepang-international-circuit/
CATEGORIES:2026 RACE EVENTS
END:VEVENT
END:VCALENDAR